BEGIN:VCALENDAR
VERSION:2.0
PRODID:-//Berliner Islandpferde Freunde e.V. - ECPv6.15.20//NONSGML v1.0//EN
CALSCALE:GREGORIAN
METHOD:PUBLISH
X-WR-CALNAME:Berliner Islandpferde Freunde e.V.
X-ORIGINAL-URL:https://bif-ev.de
X-WR-CALDESC:Veranstaltungen für Berliner Islandpferde Freunde e.V.
REFRESH-INTERVAL;VALUE=DURATION:PT1H
X-Robots-Tag:noindex
X-PUBLISHED-TTL:PT1H
BEGIN:VTIMEZONE
TZID:Europe/Berlin
BEGIN:DAYLIGHT
TZOFFSETFROM:+0100
TZOFFSETTO:+0200
TZNAME:CEST
DTSTART:20240331T010000
END:DAYLIGHT
BEGIN:STANDARD
TZOFFSETFROM:+0200
TZOFFSETTO:+0100
TZNAME:CET
DTSTART:20241027T010000
END:STANDARD
BEGIN:DAYLIGHT
TZOFFSETFROM:+0100
TZOFFSETTO:+0200
TZNAME:CEST
DTSTART:20250330T010000
END:DAYLIGHT
BEGIN:STANDARD
TZOFFSETFROM:+0200
TZOFFSETTO:+0100
TZNAME:CET
DTSTART:20251026T010000
END:STANDARD
BEGIN:DAYLIGHT
TZOFFSETFROM:+0100
TZOFFSETTO:+0200
TZNAME:CEST
DTSTART:20260329T010000
END:DAYLIGHT
BEGIN:STANDARD
TZOFFSETFROM:+0200
TZOFFSETTO:+0100
TZNAME:CET
DTSTART:20261025T010000
END:STANDARD
END:VTIMEZONE
BEGIN:VEVENT
DTSTART;TZID=Europe/Berlin:20250321T190000
DTEND;TZID=Europe/Berlin:20250321T210000
DTSTAMP:20260419T230739
CREATED:20250308T193556Z
LAST-MODIFIED:20250311T084457Z
UID:1062-1742583600-1742590800@bif-ev.de
SUMMARY:BIF Jahreshauptversammlung 2025
DESCRIPTION:Betreff: Einladung zur Jahreshauptversammlung am 21. März 2025 \nLiebe Mitglieder des BIF e.V.\, \nwir laden euch herzlich zu unserer diesjährigen Jahreshauptversammlung ein: \n📅 Datum: Freitag\, 21. März 2025\n🕖 Uhrzeit: 19:00 Uhr\n📍 Ort: „Die kleine Hofküche“ Otto-Suhr-Allee 94\, 2. Hinterhof\, 10585 Berlin\n(direkt am U-Bahnhof Richard-Wagner-Platz) \nWir freuen uns auf eure zahlreiche Teilnahme\, spannende Gespräche und einen offenen Austausch. Bitte plant 10 € für Essen und Getränke ein. \nAuf der Versammlung stellen die einzelnen Ressorts vor\, was im vergangenen Jahr geschehen ist und welche Pläne für 2025 anstehen. Unser Kassenwart wird zudem die Einnahmen und Ausgaben transparent präsentieren. Außerdem habt ihr die Möglichkeit\, die Vorstandsmitglieder und Ressortverantwortlichen persönlich kennenzulernen. \n🗳 Satzungsgemäße Wahlen\nAn diesem Tag werden auch satzungsgemäße Wahlen stattfinden. Dazu muss ein Wahlleiter bestimmt werden. Gewählt werden müssen: \n\n Vorsitzende/r (bisher Christiane Timm)\nKassenwart/in (bisher Juliane Uhlig)\n Freizeitwart/in (bisher Anna Stahmann)\n Jugendwart/in (bisher Clara Stahmann)\n\n🗣 Nutze die Gelegenheit\, dich einzubringen\, Fragen zu stellen und kreative Anregungen zu teilen. Gemeinsam gestalten wir die Zukunft unseres Vereins! \n👉 Komm vorbei und sei dabei! \nWir freuen uns auf euch! \nHerzliche Grüße\nDer Vorstand des BIF e.V.
URL:https://bif-ev.de/event/jahreshauptversammlung/
LOCATION:Otto-Suhr-Allee 94\, 2. Hinterhof\, 10585 Berlin
END:VEVENT
END:VCALENDAR