BEGIN:VCALENDAR
VERSION:2.0
PRODID:-//Berliner Islandpferde Freunde e.V. - ECPv6.15.20//NONSGML v1.0//EN
CALSCALE:GREGORIAN
METHOD:PUBLISH
X-WR-CALNAME:Berliner Islandpferde Freunde e.V.
X-ORIGINAL-URL:https://bif-ev.de
X-WR-CALDESC:Veranstaltungen für Berliner Islandpferde Freunde e.V.
REFRESH-INTERVAL;VALUE=DURATION:PT1H
X-Robots-Tag:noindex
X-PUBLISHED-TTL:PT1H
BEGIN:VTIMEZONE
TZID:Europe/Berlin
BEGIN:DAYLIGHT
TZOFFSETFROM:+0100
TZOFFSETTO:+0200
TZNAME:CEST
DTSTART:20240331T010000
END:DAYLIGHT
BEGIN:STANDARD
TZOFFSETFROM:+0200
TZOFFSETTO:+0100
TZNAME:CET
DTSTART:20241027T010000
END:STANDARD
BEGIN:DAYLIGHT
TZOFFSETFROM:+0100
TZOFFSETTO:+0200
TZNAME:CEST
DTSTART:20250330T010000
END:DAYLIGHT
BEGIN:STANDARD
TZOFFSETFROM:+0200
TZOFFSETTO:+0100
TZNAME:CET
DTSTART:20251026T010000
END:STANDARD
BEGIN:DAYLIGHT
TZOFFSETFROM:+0100
TZOFFSETTO:+0200
TZNAME:CEST
DTSTART:20260329T010000
END:DAYLIGHT
BEGIN:STANDARD
TZOFFSETFROM:+0200
TZOFFSETTO:+0100
TZNAME:CET
DTSTART:20261025T010000
END:STANDARD
END:VTIMEZONE
BEGIN:VEVENT
DTSTART;TZID=Europe/Berlin:20250327T190000
DTEND;TZID=Europe/Berlin:20250327T210000
DTSTAMP:20260419T230749
CREATED:20250311T092607Z
LAST-MODIFIED:20250311T092607Z
UID:1116-1743102000-1743109200@bif-ev.de
SUMMARY:Online Seminar vom Landesverband Berlin Brandenburg mit Marilena Heyl
DESCRIPTION:Online Seminar „Pferdeosteopathie“ mit Marilena Heyl\n\n19.00 Uhr Anmeldung per Mail an Veranstaltungen@Islandpferde-Brandenburg.de
URL:https://bif-ev.de/event/online-seminar-vom-landesverband-berlin-brandenburg-mit-marilena-heyl/
END:VEVENT
END:VCALENDAR