BEGIN:VCALENDAR
VERSION:2.0
PRODID:-//Berliner Islandpferde Freunde e.V. - ECPv6.15.20//NONSGML v1.0//EN
CALSCALE:GREGORIAN
METHOD:PUBLISH
X-WR-CALNAME:Berliner Islandpferde Freunde e.V.
X-ORIGINAL-URL:https://bif-ev.de
X-WR-CALDESC:Veranstaltungen für Berliner Islandpferde Freunde e.V.
REFRESH-INTERVAL;VALUE=DURATION:PT1H
X-Robots-Tag:noindex
X-PUBLISHED-TTL:PT1H
BEGIN:VTIMEZONE
TZID:Europe/Berlin
BEGIN:DAYLIGHT
TZOFFSETFROM:+0100
TZOFFSETTO:+0200
TZNAME:CEST
DTSTART:20240331T010000
END:DAYLIGHT
BEGIN:STANDARD
TZOFFSETFROM:+0200
TZOFFSETTO:+0100
TZNAME:CET
DTSTART:20241027T010000
END:STANDARD
BEGIN:DAYLIGHT
TZOFFSETFROM:+0100
TZOFFSETTO:+0200
TZNAME:CEST
DTSTART:20250330T010000
END:DAYLIGHT
BEGIN:STANDARD
TZOFFSETFROM:+0200
TZOFFSETTO:+0100
TZNAME:CET
DTSTART:20251026T010000
END:STANDARD
BEGIN:DAYLIGHT
TZOFFSETFROM:+0100
TZOFFSETTO:+0200
TZNAME:CEST
DTSTART:20260329T010000
END:DAYLIGHT
BEGIN:STANDARD
TZOFFSETFROM:+0200
TZOFFSETTO:+0100
TZNAME:CET
DTSTART:20261025T010000
END:STANDARD
END:VTIMEZONE
BEGIN:VEVENT
DTSTART;TZID=Europe/Berlin:20250330T170000
DTEND;TZID=Europe/Berlin:20250330T170000
DTSTAMP:20260419T230007
CREATED:20250311T083812Z
LAST-MODIFIED:20250311T083812Z
UID:1068-1743354000-1743354000@bif-ev.de
SUMMARY:IPZV Landesverband Berlin Brandenburg JHV
DESCRIPTION:Delegierte vom BIF (werden auf der JHV am 21.3. gewählt) sind abstimmungsberechtigt\, Zuschauer sind herzlich Willkommen.
URL:https://bif-ev.de/event/ipzv-landesverband-berlin-brandenburg-jhv/
LOCATION:Gemeinderaum des Campus Daniel\, Brandenburgische Str. 51\, 10707 Berlin
END:VEVENT
END:VCALENDAR