BEGIN:VCALENDAR
VERSION:2.0
PRODID:-//Berliner Islandpferde Freunde e.V. - ECPv6.15.20//NONSGML v1.0//EN
CALSCALE:GREGORIAN
METHOD:PUBLISH
X-ORIGINAL-URL:https://bif-ev.de
X-WR-CALDESC:Veranstaltungen für Berliner Islandpferde Freunde e.V.
REFRESH-INTERVAL;VALUE=DURATION:PT1H
X-Robots-Tag:noindex
X-PUBLISHED-TTL:PT1H
BEGIN:VTIMEZONE
TZID:Europe/Berlin
BEGIN:DAYLIGHT
TZOFFSETFROM:+0100
TZOFFSETTO:+0200
TZNAME:CEST
DTSTART:20240331T010000
END:DAYLIGHT
BEGIN:STANDARD
TZOFFSETFROM:+0200
TZOFFSETTO:+0100
TZNAME:CET
DTSTART:20241027T010000
END:STANDARD
BEGIN:DAYLIGHT
TZOFFSETFROM:+0100
TZOFFSETTO:+0200
TZNAME:CEST
DTSTART:20250330T010000
END:DAYLIGHT
BEGIN:STANDARD
TZOFFSETFROM:+0200
TZOFFSETTO:+0100
TZNAME:CET
DTSTART:20251026T010000
END:STANDARD
BEGIN:DAYLIGHT
TZOFFSETFROM:+0100
TZOFFSETTO:+0200
TZNAME:CEST
DTSTART:20260329T010000
END:DAYLIGHT
BEGIN:STANDARD
TZOFFSETFROM:+0200
TZOFFSETTO:+0100
TZNAME:CET
DTSTART:20261025T010000
END:STANDARD
END:VTIMEZONE
BEGIN:VEVENT
DTSTART;TZID=Europe/Berlin:20250405T090000
DTEND;TZID=Europe/Berlin:20250405T130000
DTSTAMP:20260419T214806
CREATED:20250311T084101Z
LAST-MODIFIED:20250311T085131Z
UID:1071-1743843600-1743858000@bif-ev.de
SUMMARY:FIZO Gebäude auf Gut Gut Birkholz
DESCRIPTION:
URL:https://bif-ev.de/event/fizo-gebaeude/
LOCATION:Gut Birkholz
END:VEVENT
BEGIN:VEVENT
DTSTART;TZID=Europe/Berlin:20250405T140000
DTEND;TZID=Europe/Berlin:20250405T170000
DTSTAMP:20260419T214806
CREATED:20250311T084239Z
LAST-MODIFIED:20250311T084239Z
UID:1075-1743861600-1743872400@bif-ev.de
SUMMARY:Jungpferdebeurteilung mit Körung auf Gut Birkholz
DESCRIPTION:
URL:https://bif-ev.de/event/jungpferdebeurteilung-mit-koerung-auf-gut-birkholz/
LOCATION:Gut Birkholz
END:VEVENT
END:VCALENDAR