BEGIN:VCALENDAR
VERSION:2.0
PRODID:-//Berliner Islandpferde Freunde e.V. - ECPv6.15.20//NONSGML v1.0//EN
CALSCALE:GREGORIAN
METHOD:PUBLISH
X-ORIGINAL-URL:https://bif-ev.de
X-WR-CALDESC:Veranstaltungen für Berliner Islandpferde Freunde e.V.
REFRESH-INTERVAL;VALUE=DURATION:PT1H
X-Robots-Tag:noindex
X-PUBLISHED-TTL:PT1H
BEGIN:VTIMEZONE
TZID:Europe/Berlin
BEGIN:DAYLIGHT
TZOFFSETFROM:+0100
TZOFFSETTO:+0200
TZNAME:CEST
DTSTART:20240331T010000
END:DAYLIGHT
BEGIN:STANDARD
TZOFFSETFROM:+0200
TZOFFSETTO:+0100
TZNAME:CET
DTSTART:20241027T010000
END:STANDARD
BEGIN:DAYLIGHT
TZOFFSETFROM:+0100
TZOFFSETTO:+0200
TZNAME:CEST
DTSTART:20250330T010000
END:DAYLIGHT
BEGIN:STANDARD
TZOFFSETFROM:+0200
TZOFFSETTO:+0100
TZNAME:CET
DTSTART:20251026T010000
END:STANDARD
BEGIN:DAYLIGHT
TZOFFSETFROM:+0100
TZOFFSETTO:+0200
TZNAME:CEST
DTSTART:20260329T010000
END:DAYLIGHT
BEGIN:STANDARD
TZOFFSETFROM:+0200
TZOFFSETTO:+0100
TZNAME:CET
DTSTART:20261025T010000
END:STANDARD
END:VTIMEZONE
BEGIN:VEVENT
DTSTART;VALUE=DATE:20250509
DTEND;VALUE=DATE:20250512
DTSTAMP:20260419T185447
CREATED:20250311T090100Z
LAST-MODIFIED:20250311T090100Z
UID:1087-1746748800-1747007999@bif-ev.de
SUMMARY:OSI Ruppiner Hof
DESCRIPTION:
URL:https://bif-ev.de/event/osi-ruppiner-hof/
LOCATION:Ruppiner Hof
END:VEVENT
BEGIN:VEVENT
DTSTART;VALUE=DATE:20250523
DTEND;VALUE=DATE:20250526
DTSTAMP:20260419T185447
CREATED:20250311T090315Z
LAST-MODIFIED:20250311T090401Z
UID:1089-1747958400-1748217599@bif-ev.de
SUMMARY:BIF Wanderritt Märkische Schweiz/Schloss Trebnitz (Sternritt)
DESCRIPTION:Ausschreibung folgt auf der Homepage
URL:https://bif-ev.de/event/bif-wanderritt-maerkische-schweiz-schloss-trebnitz-sternritt/
LOCATION:Märkische Schweiz
END:VEVENT
BEGIN:VEVENT
DTSTART;VALUE=DATE:20250529
DTEND;VALUE=DATE:20250602
DTSTAMP:20260419T185447
CREATED:20250311T090549Z
LAST-MODIFIED:20250311T090549Z
UID:1093-1748476800-1748822399@bif-ev.de
SUMMARY:BIF Junger Wanderritt Schlaubetal (Rundritt)
DESCRIPTION:Ausschreibung folgt auf der HP
URL:https://bif-ev.de/event/bif-junger-wanderritt-schlaubetal-rundritt/
LOCATION:Schlaubetal
END:VEVENT
END:VCALENDAR